BEGIN:VCALENDAR
VERSION:2.0
PRODID:icalendar-ruby
CALSCALE:GREGORIAN
METHOD:PUBLISH
BEGIN:VEVENT
DTSTAMP:20260421T054650Z
UID:13-538043@beckleyfirst.tithelysetup5.com
DTSTART:20260930T220000Z
DTEND:20260930T230000Z
CLASS:PUBLIC
CREATED:20260420T205250
DESCRIPTION:These vibrant gatherings provide engaging activities\, opportun
 ities for fellowship\, and meaningful lessons designed just for kids.\nFor
  more information about our youth and children's programs\, please contact
  Matt Sydnor at (304) 573-7913.
LAST-MODIFIED:20260420T205250
LOCATION:
SUMMARY:Children and Youth Groups
URL;VALUE=URI:https://www.beckleyfirstbaptist.org/events/children-and-youth
 -groups/2026-09-30
ATTACH;FILENAME=high-angle-girl-painting-her-palm.jpg;FMTTYPE=image/jpeg:ht
 tps://dq5pwpg1q8ru0.cloudfront.net/2024/10/30/20/45/42/adc63252-39fc-4f4e-
 9afd-580b9f5de37b/high-angle-girl-painting-her-palm.jpg
END:VEVENT
END:VCALENDAR
