BEGIN:VCALENDAR
VERSION:2.0
PRODID:icalendar-ruby
CALSCALE:GREGORIAN
METHOD:PUBLISH
BEGIN:VEVENT
DTSTAMP:20260420T205040Z
UID:6-536781@beckleyfirst.tithelysetup5.com
DTSTART:20260823T134500Z
DTEND:20260823T144500Z
CLASS:PUBLIC
CREATED:20260420T154200
DESCRIPTION:Join us for an enriching Sunday School experience! Explore the 
 depths of scripture\, connect with fellow believers\, and grow spiritually
  in our welcoming and vibrant community. Whether you're new to the faith o
 r a seasoned believer\, there's a place for you to learn and grow. We can'
 t wait to journey with you in discovering God's Word together.
LAST-MODIFIED:20260420T154200
LOCATION:
SUMMARY:Sunday School
URL;VALUE=URI:https://www.beckleyfirstbaptist.org/events/sunday-school/2026
 -08-23
ATTACH;FILENAME=Fvjvk.jpg;FMTTYPE=image/jpeg:https://dq5pwpg1q8ru0.cloudfro
 nt.net/2024/05/16/21/58/43/bb3bcbee-06c2-4879-9168-d68961f32269/Fvjvk.jpg
END:VEVENT
END:VCALENDAR
